BEGIN:VCALENDAR
VERSION:2.0
PRODID:-//SBDR - Alabama Baptist Disaster Relief - ECPv6.15.17.1//NONSGML v1.0//EN
CALSCALE:GREGORIAN
METHOD:PUBLISH
X-ORIGINAL-URL:https://sbdr.org
X-WR-CALDESC:Events for SBDR - Alabama Baptist Disaster Relief
REFRESH-INTERVAL;VALUE=DURATION:PT1H
X-Robots-Tag:noindex
X-PUBLISHED-TTL:PT1H
BEGIN:VTIMEZONE
TZID:America/Chicago
BEGIN:DAYLIGHT
TZOFFSETFROM:-0600
TZOFFSETTO:-0500
TZNAME:CDT
DTSTART:20260308T080000
END:DAYLIGHT
BEGIN:STANDARD
TZOFFSETFROM:-0500
TZOFFSETTO:-0600
TZNAME:CST
DTSTART:20261101T070000
END:STANDARD
BEGIN:DAYLIGHT
TZOFFSETFROM:-0600
TZOFFSETTO:-0500
TZNAME:CDT
DTSTART:20270314T080000
END:DAYLIGHT
BEGIN:STANDARD
TZOFFSETFROM:-0500
TZOFFSETTO:-0600
TZNAME:CST
DTSTART:20271107T070000
END:STANDARD
BEGIN:DAYLIGHT
TZOFFSETFROM:-0600
TZOFFSETTO:-0500
TZNAME:CDT
DTSTART:20280312T080000
END:DAYLIGHT
BEGIN:STANDARD
TZOFFSETFROM:-0500
TZOFFSETTO:-0600
TZNAME:CST
DTSTART:20281105T070000
END:STANDARD
END:VTIMEZONE
BEGIN:VEVENT
DTSTART;TZID=America/Chicago:20270313T090000
DTEND;TZID=America/Chicago:20270313T170000
DTSTAMP:20260419T221343
CREATED:20260211T160013Z
LAST-MODIFIED:20260211T160013Z
UID:10000177-1804928400-1804957200@sbdr.org
SUMMARY:Disaster Relief Admin Training
DESCRIPTION:Volunteers will receive training in managing volunteers in a database and deployment information. There is no charge for this training. Lunch is included. \nTo register\, go to alsbom-gm.org
URL:https://sbdr.org/event/disaster-relief-admin-training-5/
LOCATION:Disaster Relief Center\, 118 Jesse Samuel Hunt Blvd.\, Prattville\, AL\, 36066\, United States
ATTACH;FMTTYPE=image/webp:https://sbdr.org/wp-content/uploads/2018/10/administration.webp
ORGANIZER;CN="Ana Raymundo":MAILTO:araymundo@alsbom.org
GEO:32.5658382;-86.4580225
X-APPLE-STRUCTURED-LOCATION;VALUE=URI;X-ADDRESS=Disaster Relief Center 118 Jesse Samuel Hunt Blvd. Prattville AL 36066 United States;X-APPLE-RADIUS=500;X-TITLE=118 Jesse Samuel Hunt Blvd.:geo:-86.4580225,32.5658382
END:VEVENT
BEGIN:VEVENT
DTSTART;TZID=America/Chicago:20270320T090000
DTEND;TZID=America/Chicago:20270320T170000
DTSTAMP:20260419T221343
CREATED:20260220T205000Z
LAST-MODIFIED:20260220T205000Z
UID:10000178-1805533200-1805562000@sbdr.org
SUMMARY:Disaster Relief Shower and Laundry Training
DESCRIPTION:Volunteers receive training in the setup and operation of shower and laundry units in disaster response. There is no charge for the training. Lunch is provided. \nTo register\, go to alsbom-gm.org
URL:https://sbdr.org/event/disaster-relief-shower-and-laundry-training-2/
LOCATION:Disaster Relief Center\, 118 Jesse Samuel Hunt Blvd.\, Prattville\, AL\, 36066\, United States
ATTACH;FMTTYPE=image/webp:https://sbdr.org/wp-content/uploads/2020/01/Serve_Shower.webp
ORGANIZER;CN="Ana Raymundo":MAILTO:araymundo@alsbom.org
GEO:32.5658382;-86.4580225
X-APPLE-STRUCTURED-LOCATION;VALUE=URI;X-ADDRESS=Disaster Relief Center 118 Jesse Samuel Hunt Blvd. Prattville AL 36066 United States;X-APPLE-RADIUS=500;X-TITLE=118 Jesse Samuel Hunt Blvd.:geo:-86.4580225,32.5658382
END:VEVENT
BEGIN:VEVENT
DTSTART;TZID=America/Chicago:20270320T100000
DTEND;TZID=America/Chicago:20270320T170000
DTSTAMP:20260419T221343
CREATED:20260220T213703Z
LAST-MODIFIED:20260220T213703Z
UID:10000179-1805536800-1805562000@sbdr.org
SUMMARY:Disaster Relief Communications Training
DESCRIPTION:Volunteers receive training in using amateur radio to assist with disaster communication. There is no charge for this training. Lunch is provided. \nTo register\, go to alsbom-gm.org
URL:https://sbdr.org/event/disaster-relief-communications-training-2/
LOCATION:Disaster Relief Center\, 118 Jesse Samuel Hunt Blvd.\, Prattville\, AL\, 36066\, United States
ATTACH;FMTTYPE=image/webp:https://sbdr.org/wp-content/uploads/2020/01/Serve_Communications.webp
ORGANIZER;CN="Ana Raymundo":MAILTO:araymundo@alsbom.org
GEO:32.5658382;-86.4580225
X-APPLE-STRUCTURED-LOCATION;VALUE=URI;X-ADDRESS=Disaster Relief Center 118 Jesse Samuel Hunt Blvd. Prattville AL 36066 United States;X-APPLE-RADIUS=500;X-TITLE=118 Jesse Samuel Hunt Blvd.:geo:-86.4580225,32.5658382
END:VEVENT
END:VCALENDAR