BEGIN:VCALENDAR
VERSION:2.0
PRODID:-//SBDR - Alabama Baptist Disaster Relief - ECPv6.15.17.1//NONSGML v1.0//EN
CALSCALE:GREGORIAN
METHOD:PUBLISH
X-ORIGINAL-URL:https://sbdr.org
X-WR-CALDESC:Events for SBDR - Alabama Baptist Disaster Relief
REFRESH-INTERVAL;VALUE=DURATION:PT1H
X-Robots-Tag:noindex
X-PUBLISHED-TTL:PT1H
BEGIN:VTIMEZONE
TZID:America/Chicago
BEGIN:DAYLIGHT
TZOFFSETFROM:-0600
TZOFFSETTO:-0500
TZNAME:CDT
DTSTART:20250309T080000
END:DAYLIGHT
BEGIN:STANDARD
TZOFFSETFROM:-0500
TZOFFSETTO:-0600
TZNAME:CST
DTSTART:20251102T070000
END:STANDARD
BEGIN:DAYLIGHT
TZOFFSETFROM:-0600
TZOFFSETTO:-0500
TZNAME:CDT
DTSTART:20260308T080000
END:DAYLIGHT
BEGIN:STANDARD
TZOFFSETFROM:-0500
TZOFFSETTO:-0600
TZNAME:CST
DTSTART:20261101T070000
END:STANDARD
BEGIN:DAYLIGHT
TZOFFSETFROM:-0600
TZOFFSETTO:-0500
TZNAME:CDT
DTSTART:20270314T080000
END:DAYLIGHT
BEGIN:STANDARD
TZOFFSETFROM:-0500
TZOFFSETTO:-0600
TZNAME:CST
DTSTART:20271107T070000
END:STANDARD
END:VTIMEZONE
BEGIN:VEVENT
DTSTART;VALUE=DATE:20260305
DTEND;VALUE=DATE:20260308
DTSTAMP:20260421T065104
CREATED:20251107T153454Z
LAST-MODIFIED:20251107T153454Z
UID:10000174-1772668800-1772927999@sbdr.org
SUMMARY:Disaster Relief Training - Winston Baptist Association
DESCRIPTION:Are you a new volunteer with no previous Disaster Relief Training? \nHave you already been trained and now you desire to be trained in a different/additional ministry area? \nAre you a current volunteer that has been trained and now you desire to be re-credentialed in the same ministry area? \nIf you answered yes to any of these questions you are in the right place. \n\nTo register\, go to alsbom-gm.org
URL:https://sbdr.org/event/disaster-relief-training-winston-baptist-association-2/
LOCATION:Ministry Resource Center\, 25461 Hwy 195\, Double Springs\, 35553\, United States
ATTACH;FMTTYPE=image/webp:https://sbdr.org/wp-content/uploads/2021/09/TAB_DR_Tuesday_AL_SBE-7-scaled.webp
ORGANIZER;CN="Ana Raymundo":MAILTO:araymundo@alsbom.org
END:VEVENT
BEGIN:VEVENT
DTSTART;TZID=America/Chicago:20260314T090000
DTEND;TZID=America/Chicago:20260314T170000
DTSTAMP:20260421T065104
CREATED:20250327T165051Z
LAST-MODIFIED:20250327T165051Z
UID:10000163-1773478800-1773507600@sbdr.org
SUMMARY:Disaster Relief Admin Training
DESCRIPTION:Volunteers receive training in managing volunteers in a database and deployment information. There is no charge for this training. Lunch is provided. \nTo register\, go to alsbom-gm.org
URL:https://sbdr.org/event/disaster-relief-admin-training-4/
LOCATION:Disaster Relief Center\, 118 Jesse Samuel Hunt Blvd.\, Prattville\, AL\, 36066\, United States
ATTACH;FMTTYPE=image/webp:https://sbdr.org/wp-content/uploads/2018/10/administration.webp
ORGANIZER;CN="Ana Raymundo":MAILTO:araymundo@alsbom.org
GEO:32.5658382;-86.4580225
X-APPLE-STRUCTURED-LOCATION;VALUE=URI;X-ADDRESS=Disaster Relief Center 118 Jesse Samuel Hunt Blvd. Prattville AL 36066 United States;X-APPLE-RADIUS=500;X-TITLE=118 Jesse Samuel Hunt Blvd.:geo:-86.4580225,32.5658382
END:VEVENT
BEGIN:VEVENT
DTSTART;TZID=America/Chicago:20260321T090000
DTEND;TZID=America/Chicago:20260321T170000
DTSTAMP:20260421T065104
CREATED:20250327T170010Z
LAST-MODIFIED:20250327T170010Z
UID:10000164-1774083600-1774112400@sbdr.org
SUMMARY:Disaster Relief Shower and Laundry Training
DESCRIPTION:Volunteers receive training in the setup and operation of shower and laundry units in disaster response. There is no charge for the training. Lunch is provided. \nTo register\, go to alsbom-gm.org
URL:https://sbdr.org/event/disaster-relief-shower-and-laundry-training/
LOCATION:Disaster Relief Center\, 118 Jesse Samuel Hunt Blvd.\, Prattville\, AL\, 36066\, United States
ATTACH;FMTTYPE=image/webp:https://sbdr.org/wp-content/uploads/2020/01/Serve_Shower.webp
ORGANIZER;CN="Ana Raymundo":MAILTO:araymundo@alsbom.org
GEO:32.5658382;-86.4580225
X-APPLE-STRUCTURED-LOCATION;VALUE=URI;X-ADDRESS=Disaster Relief Center 118 Jesse Samuel Hunt Blvd. Prattville AL 36066 United States;X-APPLE-RADIUS=500;X-TITLE=118 Jesse Samuel Hunt Blvd.:geo:-86.4580225,32.5658382
END:VEVENT
BEGIN:VEVENT
DTSTART;TZID=America/Chicago:20260321T100000
DTEND;TZID=America/Chicago:20260321T170000
DTSTAMP:20260421T065104
CREATED:20250327T170322Z
LAST-MODIFIED:20250327T170322Z
UID:10000165-1774087200-1774112400@sbdr.org
SUMMARY:Disaster Relief Communications Training
DESCRIPTION:Volunteers receive training in using amateur radio to assist with disaster communication. There is no charge for this training. Lunch is provided. \nTo register\, go to alsbom-gm.org
URL:https://sbdr.org/event/disaster-relief-communications-training/
LOCATION:Disaster Relief Center\, 118 Jesse Samuel Hunt Blvd.\, Prattville\, AL\, 36066\, United States
ATTACH;FMTTYPE=image/webp:https://sbdr.org/wp-content/uploads/2020/01/Serve_Communications.webp
ORGANIZER;CN="Ana Raymundo":MAILTO:araymundo@alsbom.org
GEO:32.5658382;-86.4580225
X-APPLE-STRUCTURED-LOCATION;VALUE=URI;X-ADDRESS=Disaster Relief Center 118 Jesse Samuel Hunt Blvd. Prattville AL 36066 United States;X-APPLE-RADIUS=500;X-TITLE=118 Jesse Samuel Hunt Blvd.:geo:-86.4580225,32.5658382
END:VEVENT
BEGIN:VEVENT
DTSTART;VALUE=DATE:20260326
DTEND;VALUE=DATE:20260329
DTSTAMP:20260421T065104
CREATED:20251107T153618Z
LAST-MODIFIED:20251107T153618Z
UID:10000175-1774483200-1774742399@sbdr.org
SUMMARY:Disaster Relief Training - St. Clair Baptist Association
DESCRIPTION:Are you a new volunteer with no previous Disaster Relief Training? \nHave you already been trained and now you desire to be trained in a different/additional ministry area? \nAre you a current volunteer that has been trained and now you desire to be re-credentialed in the same ministry area? \nIf you answered yes to any of these questions you are in the right place. \n\nTo register\, go to alsbom-gm.org
URL:https://sbdr.org/event/disaster-relief-training-st-clair-baptist-association-2/
LOCATION:First Baptist Church\, Ashville\, 85 5th Ave\, Ashville\, AL\, 35953\, United States
ATTACH;FMTTYPE=image/webp:https://sbdr.org/wp-content/uploads/2020/01/YellowShirtArmy_BG.webp
ORGANIZER;CN="Ana Raymundo":MAILTO:araymundo@alsbom.org
END:VEVENT
END:VCALENDAR